0.3
0
0
-0.3
141800.15
3739799.85
