0.3
0
0
-0.3
138800.15
3733799.85
