0.3
0
0
-0.3
132800.15
3730799.85
