0.3
0
0
-0.3
126800.15
3718799.85
