0.3
0
0
-0.3
123800.15
3718799.85
