0.3
0
0
-0.3
117800.15
3712799.85
