0.3
0
0
-0.3
114800.15
3715799.85
