0.3
0
0
-0.3
114800.15
3706799.85
