0.3
0
0
-0.3
108800.15
3703799.85
