0.3
0
0
-0.3
105800.15
3679799.85
