0.3
0
0
-0.3
102800.15
3691799.85
