0.3
0
0
-0.3
99800.15
3688799.85
