0.3
0
0
-0.3
96800.15
3691799.85
