0.3
0
0
-0.3
93800.15
3697799.85
