0.25
0
0
-0.25
791000.125
3249999.875
