0.25
0
0
-0.25
788000.125
3273999.875
