0.25
0
0
-0.25
785000.125
3225999.875
