0.25
0
0
-0.25
782000.125
3246999.875
