0.25
0
0
-0.25
770000.125
3276999.875
