0.25
0
0
-0.25
770000.125
3243999.875
