0.25
0
0
-0.25
767000.125
3270999.875
