0.25
0
0
-0.25
764000.125
3228999.875
