0.25
0
0
-0.25
764000.125
3219999.875
