0.25
0
0
-0.25
755000.125
3264999.875
