0.25
0
0
-0.25
752000.125
3276999.875
