0.25
0
0
-0.25
752000.125
3228999.875
