0.25
0
0
-0.25
749000.125
3255999.875
