0.25
0
0
-0.25
749000.125
3243999.875
