0.25
0
0
-0.25
746000.125
3234999.875
