0.25
0
0
-0.25
743000.125
3264999.875
