0.25
0
0
-0.25
740000.125
3288999.875
