0.25
0
0
-0.25
737000.125
3258999.875
