0.25
0
0
-0.25
734000.125
3264999.875
