0.25
0
0
-0.25
725000.125
3276999.875
