0.25
0
0
-0.25
722000.125
3282999.875
