0.25
0
0
-0.25
713000.125
3282999.875
