0.25
0
0
-0.25
243000.125
3266999.875
