0.25
0
0
-0.25
240000.125
3257999.875
