0.25
0
0
-0.25
237000.125
3254999.875
