0.25
0
0
-0.25
234000.125
3245999.875
