0.25
0
0
-0.25
231000.125
3290999.875
