0.25
0
0
-0.25
231000.125
3269999.875
