0.25
0
0
-0.25
228000.125
3251999.875
