0.25
0
0
-0.25
225000.125
3272999.875
