0.25
0
0
-0.25
222000.125
3278999.875
