0.25
0
0
-0.25
219000.125
3293999.875
