0.25
0
0
-0.25
219000.125
3290999.875
