0.25
0
0
-0.25
219000.125
3254999.875
