0.25
0
0
-0.25
216000.125
3245999.875
