0.25
0
0
-0.25
213000.125
3281999.875
